BEGIN:VCALENDAR
VERSION:2.0
PRODID:-//Port Orford Events//portorfordevents.com//EN
CALSCALE:GREGORIAN
METHOD:PUBLISH
BEGIN:VEVENT
UID:event-12@portorfordevents.com
DTSTAMP:20260419T122449Z
DTSTART;VALUE=DATE:20260520
DTEND;VALUE=DATE:20260522
SUMMARY:The California Honeydrops - Two-Night Stand
DESCRIPTION:The California Honeydrops return to the Langlois Cheese Factory for two nights. May 20 is sold out. Tickets for May 21 available at wl.eventim.us. All attendees require tickets regardless of age.\n\nMore info: https://wl.eventim.us
LOCATION:Langlois Cheese Factory\, 94179 Allen Boice Dr\, Langlois\, Port Orford\, OR
URL:https://portorfordevents.com/events/12
END:VEVENT
END:VCALENDAR